BEGIN:VCALENDAR
VERSION:2.0
PRODID:-//CERN//INDICO//EN
BEGIN:VEVENT
SUMMARY:CernVM-FS Coordination Meeting
DTSTART:20251208T160000Z
DTEND:20251208T170000Z
DTSTAMP:20260421T224200Z
UID:indico-event-1487606@indico.cern.ch
DESCRIPTION:https://indico.cern.ch/event/1487606/
LOCATION:Zoom (CERN)
URL:https://indico.cern.ch/event/1487606/
END:VEVENT
END:VCALENDAR
