BEGIN:VCALENDAR
VERSION:2.0
PRODID:-//CERN//INDICO//EN
BEGIN:VEVENT
SUMMARY:Tuesday Improvisation Workshop
DTSTART:20260324T173000Z
DTEND:20260324T193000Z
DTSTAMP:20260421T092400Z
UID:indico-event-1581629@indico.cern.ch
DESCRIPTION:Continuing more advanced skills of the improv syllabus (silly-
 bus)\n🕡 When: Tuesday 18:30 🏢 Where  222 /R-001 Filtration Plant
 🎭 What: Learning to create spontaneous ideas and say yes to other peopl
 es ideas!👥 Who: Everyone is welcome\, from beginners to seasoned vetera
 ns\n\nhttps://indico.cern.ch/event/1581629/
LOCATION:222/R-001 (CERN)
URL:https://indico.cern.ch/event/1581629/
END:VEVENT
END:VCALENDAR
