BEGIN:VCALENDAR
VERSION:2.0
PRODID:-//CERN//INDICO//EN
BEGIN:VEVENT
SUMMARY:Astrophysical probes of quantum gravity
DTSTART:20260512T130000Z
DTEND:20260512T143000Z
DTSTAMP:20260420T225500Z
UID:indico-event-1586081@indico.cern.ch
DESCRIPTION:Speakers: Stefano Liberati\n\nhttps://indico.cern.ch/event/158
 6081/\n\nZoom: https://cern.zoom.us/j/61597651644?pwd=mRACSziLc1Q3i5BS5CXM
 gCgEaSpuYg.1
LOCATION:On-line only (CERN)
URL:https://indico.cern.ch/event/1586081/
END:VEVENT
END:VCALENDAR
