BEGIN:VCALENDAR
VERSION:2.0
PRODID:-//CERN//INDICO//EN
BEGIN:VEVENT
SUMMARY:21st "Trento" Workshop on Advanced Silicon Radiation Detectors
DTSTART:20260217T073000Z
DTEND:20260219T174500Z
DTSTAMP:20260421T142800Z
UID:indico-event-1586892@indico.cern.ch
CONTACT:gianfranco.dallabetta@unitn.it\;+390461283904
DESCRIPTION:Speakers: Giovanni Ambrosi (Universita e INFN\, Perugia (IT))\
 , Maurizio Boscardin (FBK Trento)\, Matteo Duranti (Universita e INFN\, Pe
 rugia (IT))\, Francesco Moscatelli (IOM-CNR and INFN\, Perugia (IT))\, Gia
 n Franco Dalla Betta (Universita degli Studi di Trento and INFN (IT))\n\n2
 1st "Trento" Workshop on Advanced Silicon Radiation Detectors\nTREDI 2026\
 n\n \n\nInitially focused on silicon based detectors\, the workshop now e
 ncompasses additional topics\, such as CMOS MAPS\, wide bandgap semiconduc
 tor detectors\, etc. As usual\, the goal of is to bring together experts o
 n sensor technology (design\, simulation and processing)\, front-end elect
 ronics\, system issues\, detector applications (e.g.\, particle tracking\,
  medical and biological imaging)\, etc. for discussions of the present sta
 te of the art\, establishment of requirements of the fields and future pro
 grams.\nThe workshop will consist of invited talks\, contributed presentat
 ions and posters\, with ample time for discussions. \nPlease note that th
 ere will be the Workshop Proceedings that will published on JINST. \nWe a
 re looking forward to welcoming you soon in Perugia ! \n\nConference orga
 nized by and under the patronage of:\n  \n\nSponsorship:\n\n\n\n\n \n\nht
 tps://indico.cern.ch/event/1586892/
IMAGE;VALUE=URI:https://indico.cern.ch/event/1586892/logo-287785351.png
LOCATION:Sala dei Notari (Palazzo dei Priori\, Perugia\, Italy)
URL:https://indico.cern.ch/event/1586892/
END:VEVENT
END:VCALENDAR
