BEGIN:VCALENDAR
VERSION:2.0
PRODID:-//CERN//INDICO//EN
BEGIN:VEVENT
SUMMARY:Weekly Standup Meeting
DTSTART:20260316T083000Z
DTEND:20260316T093000Z
DTSTAMP:20260420T093800Z
UID:indico-event-1592639@indico.cern.ch
DESCRIPTION:https://indico.cern.ch/event/1592639/
LOCATION:40/R-D10 (CERN)
URL:https://indico.cern.ch/event/1592639/
END:VEVENT
END:VCALENDAR
