BEGIN:VCALENDAR
VERSION:2.0
PRODID:-//CERN//INDICO//EN
BEGIN:VEVENT
SUMMARY:RAL Tier1 Experiments Liaison Meeting
DTSTART:20260318T133000Z
DTEND:20260318T155000Z
DTSTAMP:20260423T064200Z
UID:indico-event-1595581@indico.cern.ch
DESCRIPTION:https://indico.cern.ch/event/1595581/
LOCATION:Access Grid (RAL R89)
URL:https://indico.cern.ch/event/1595581/
END:VEVENT
END:VCALENDAR
