BEGIN:VCALENDAR
VERSION:2.0
PRODID:-//CERN//INDICO//EN
BEGIN:VEVENT
SUMMARY:CERN QTI Advisory Board
DTSTART:20251215T100000Z
DTEND:20251215T113000Z
DTSTAMP:20260419T175400Z
UID:indico-event-1617313@indico.cern.ch
DESCRIPTION:Online:\nhttps://zoom.us/j/98416706487?pwd=UFPEwl0wI6zjnSktHMj
 IT5nJ8i8MbO.1\n(Meeting ID: 984 1670 6487 – Password: 839609).\n\nhttps:
 //indico.cern.ch/event/1617313/
LOCATION:Online
URL:https://indico.cern.ch/event/1617313/
END:VEVENT
END:VCALENDAR
