BEGIN:VCALENDAR
VERSION:2.0
PRODID:-//CERN//INDICO//EN
BEGIN:VEVENT
SUMMARY:Particle Therapy MasterClass 11 February 2026: North Macedonia\, T
 etovo
DTSTART:20260211T070000Z
DTEND:20260211T160000Z
DTSTAMP:20260421T223900Z
UID:indico-event-1617341@indico.cern.ch
DESCRIPTION:Speakers: Bashkim Ziberi (University of Tetova)\, Nermine Mura
 di (University of Tetova)\, Yiota Foka (GSI - Helmholtzzentrum fur Schweri
 onenforschung GmbH (DE))\n\n  Contributors: \nBashkim Ziberi - Universit
 y of Tetovo\, North Macedonia   Nermine Muradi - University of Tetovo\, 
 North Macedonia\n\n Material in Google Drive in Albanian:           
 https://drive.google.com/drive/folders/1VV7aNW29Znmzvg9fc1gJP19fgJDwC3lR?u
 sp=sharing\nInstallation Instructions of the software matRad: https://indi
 co.cern.ch/event/1617341/contributions/6815096/attachments/3216584/5730510
 /Installation_matRad2025.pdf\nData Protection:The data of the contact pers
 on and contributors are inserted under the responsibility of each institut
 e after obtaining their explicit consent. These data will be used for th
 e PTMC organisation purposes (including time tables) and may need to be fo
 rwarded to other participants or appear in PTMC presentations together wit
 h pictures taken during this specific event.The document of consent can be
  found in different languages via the link below:https://indico.cern.ch/ev
 ent/840212/page/18010-consent-for-photo-publication and should be signed b
 y the participating students.\nPTMC main web page: https://indico.cern.ch/
 event/840212/\n\n\n\nhttps://indico.cern.ch/event/1617341/
LOCATION:University of Tetova\, Amphitheatre "Rafi Halili" (In presence)
URL:https://indico.cern.ch/event/1617341/
END:VEVENT
END:VCALENDAR
