BEGIN:VCALENDAR
VERSION:2.0
PRODID:-//CERN//INDICO//EN
BEGIN:VEVENT
SUMMARY:Eiroforum Working Group\, Training and Career Development
DTSTART:20260521T090000Z
DTEND:20260521T101000Z
DTSTAMP:20260422T014000Z
UID:indico-event-1617386@indico.cern.ch
DESCRIPTION:https://indico.cern.ch/event/1617386/\n\nZoom: https://cern.zo
 om.us/j/68077583901?pwd=OVJPVUdsdks2U0RMb0QrMm1HajVHdz09
LOCATION:Virtual
URL:https://indico.cern.ch/event/1617386/
END:VEVENT
END:VCALENDAR
