BEGIN:VCALENDAR
VERSION:2.0
PRODID:-//CERN//INDICO//EN
BEGIN:VEVENT
SUMMARY:Permanence
DTSTART:20260326T170000Z
DTEND:20260326T190000Z
DTSTAMP:20260423T195100Z
UID:indico-event-1618340@indico.cern.ch
DESCRIPTION:Speakers: SKI CLUB CERN (SKI CLUB CERN)\, Enrique Blanco (CERN
 )\n\nSki Club CERN weekly office hours. Come to above Restaurant 2 if you 
 have questions\, or things you need sorted\, inscriptions\, or want to pic
 k up from our pile of lost and found in the buses. Important: If you need
  access to CERN and you do not have a CERN card\, please fill in the quest
 ionnaire to issue a temporary CERN pass. \n\nhttps://indico.cern.ch/event
 /1618340/
LOCATION:504/E-005 (CERN)
URL:https://indico.cern.ch/event/1618340/
END:VEVENT
END:VCALENDAR
