BEGIN:VCALENDAR
VERSION:2.0
PRODID:-//CERN//INDICO//EN
BEGIN:VEVENT
SUMMARY:Ski rando welcome session - 2025-26
DTSTART:20251209T173000Z
DTEND:20251209T190000Z
DTSTAMP:20260425T192800Z
UID:indico-event-1618596@indico.cern.ch
DESCRIPTION:Speakers: SKI CLUB CERN (SKI CLUB CERN)\, Oriol Rios (CERN)\n\
 nSki Club CERN and its Rando/Touring section welcomes new members\n\nhttps
 ://indico.cern.ch/event/1618596/
LOCATION:13/2-005 (CERN)
URL:https://indico.cern.ch/event/1618596/
END:VEVENT
END:VCALENDAR
