BEGIN:VCALENDAR
VERSION:2.0
PRODID:-//CERN//INDICO//EN
BEGIN:VEVENT
SUMMARY:BLonD3 Review and Coding informal meeting 28
DTSTART:20260417T080000Z
DTEND:20260417T100000Z
DTSTAMP:20260421T143000Z
UID:indico-event-1619030@indico.cern.ch
DESCRIPTION:https://indico.cern.ch/event/1619030/
LOCATION:864/1-B04 (CERN)
URL:https://indico.cern.ch/event/1619030/
END:VEVENT
END:VCALENDAR
