BEGIN:VCALENDAR
VERSION:2.0
PRODID:-//CERN//INDICO//EN
BEGIN:VEVENT
SUMMARY:ABP-CEI Section Meeting
DTSTART:20260312T124000Z
DTEND:20260312T143000Z
DTSTAMP:20260424T095300Z
UID:indico-event-1621304@indico.cern.ch
DESCRIPTION:https://indico.cern.ch/event/1621304/
LOCATION:6/2-004 (CERN)
URL:https://indico.cern.ch/event/1621304/
END:VEVENT
END:VCALENDAR
