BEGIN:VCALENDAR
VERSION:2.0
PRODID:-//CERN//INDICO//EN
BEGIN:VEVENT
SUMMARY:Edge SpAIce CERN Technical Meeting
DTSTART:20260428T080000Z
DTEND:20260428T090000Z
DTSTAMP:20260424T095000Z
UID:indico-event-1627688@indico.cern.ch
DESCRIPTION:https://indico.cern.ch/event/1627688/
LOCATION:42/R-024 (CERN)
URL:https://indico.cern.ch/event/1627688/
END:VEVENT
END:VCALENDAR
