BEGIN:VCALENDAR
VERSION:2.0
PRODID:-//CERN//INDICO//EN
BEGIN:VEVENT
SUMMARY:Fast timing for nuclear structure and applications - FAST'26
DTSTART:20260427T060000Z
DTEND:20260429T160000Z
DTSTAMP:20260422T033900Z
UID:indico-event-1633228@indico.cern.ch
CONTACT:fast26@nipne.ro
DESCRIPTION:Speakers: Agnieszka Barbara Korgul (University of Warsaw (PL))
 \, Luis M Fraile (CERN)\, Razvan Lica (Horia Hulubei National Institute of
  Physics and Nuclear Engineering (RO))\n\nFollowing the successful 2025 ed
 ition in Madrid\, the FAST'26 workshop is aimed at sharing the latest deve
 lopments in instrumentation and methods for fast timing measurements\, the
 ir use in fundamental physics research and their application to other fiel
 ds such as medical imaging.\nThe meeting will be held at the Horia Hulubei
  National Institute for R&D in Physics and Nuclear Engineering (IFIN-HH)\,
  Magurele-Bucharest\, Romania from 27th to 29th April 2026.\nThe scientifi
 c programme includes:\n\nNew detector technologies\, including scintillato
 rs and photosensors\nFast front-end and readout electronics\nTime pick-up 
 methods\, optimization\, and AI processing\nLarge scintillator and hybrid 
 arrays for fast-timing measurements\nNuclear structure from fast-timing me
 asurements: decay and reactions\nOther methods for the measurement of nucl
 ear state lifetimes (RDDS\, DSAM\, etc.)\nFast scintillators for time-of-f
 light PET and other imaging modalities\nFast response and high count rate 
 detectors for technology and applications\n\n \nRegistration and Fees\nTo
  attend the workshop\, registration is required. The standard fee of €15
 0 covers coffee breaks and lunches (April 27–29) and the workshop dinner
  on the evening of Tuesday\, April 28.\nFee waivers and free accommodation
  at the IFIN-HH Student Dormitory will be available for a limited number o
 f MSc\, PhD students and Postdocs (up to 2 years post-defense). To apply: 
 During registration\, submit a request for financial support by including 
 a CV and a recommendation letter from your supervisor.\n \n \nThe FAST'2
 6 workshop will be followed by the ISOLDE Decay Station (IDS) collaboratio
 n meeting\, at the same venue in the afternoon of April 29th 2026.\n \nIm
 portant messages to participants:\n\nWe can print the posters for you in A
 0 format at IFIN-HH if you send us the pdf by the 20th of April.  \nAcces
 s to IFIN-HH is possible only with your Passport or National ID (EU). If y
 ou haven't sent a scan of your document\, please email it to fast26@nipne.
 ro before you arrive. \n\n \n\n \n\nhttps://indico.cern.ch/event/163322
 8/
IMAGE;VALUE=URI:https://indico.cern.ch/event/1633228/logo-2992983239.png
LOCATION:Training and Conference Center (CCI) ( Horia Hulubei National Ins
 titute for R&D in Physics and Nuclear Engineering (IFIN-HH))
URL:https://indico.cern.ch/event/1633228/
END:VEVENT
END:VCALENDAR
