BEGIN:VCALENDAR
VERSION:2.0
PRODID:-//CERN//INDICO//EN
BEGIN:VEVENT
SUMMARY:Weekly Theatre Workshop
DTSTART:20260204T173000Z
DTEND:20260204T193000Z
DTSTAMP:20260423T064200Z
UID:indico-event-1638328@indico.cern.ch
DESCRIPTION:\n\nThis week we will hold the first table read of our origina
 l work\, "Tales form a Travel Case"!Everyone is welcome to join our worksh
 op and attend\, but if you are not in the cast of the next production you 
 will unfortunately not be able to take part in the table read.\n\n\n\nhttp
 s://indico.cern.ch/event/1638328/
LOCATION:6/2-004 (CERN)
URL:https://indico.cern.ch/event/1638328/
END:VEVENT
END:VCALENDAR
