BEGIN:VCALENDAR
VERSION:2.0
PRODID:-//CERN//INDICO//EN
BEGIN:VEVENT
SUMMARY:[CMS] Integration challenge chat
DTSTART:20260202T153000Z
DTEND:20260202T163000Z
DTSTAMP:20260421T210100Z
UID:indico-event-1638467@indico.cern.ch
DESCRIPTION:https://indico.cern.ch/event/1638467/
LOCATION:ZOOM
URL:https://indico.cern.ch/event/1638467/
END:VEVENT
END:VCALENDAR
