BEGIN:VCALENDAR
VERSION:2.0
PRODID:-//CERN//INDICO//EN
BEGIN:VEVENT
SUMMARY:Warsztaty Masterclass z Radioterapii 2026
DTSTART:20260220T080000Z
DTEND:20260220T162000Z
DTSTAMP:20260422T020300Z
UID:indico-event-1642705@indico.cern.ch
CONTACT:maja.pawlowska@pw.edu.pl
DESCRIPTION:Speakers: Maja Mackowiak-Pawlowska (Warsaw University of Techn
 ology (PL))\n\nWarsztaty Masterclass z RadioterapiiPolitechnika Warszawska
 \n20 luty 2026\nZostań fizykiem na jeden dzień i uratuj komuś życie!\n
 W dniu 20 lutego (piątek) o godzinie 9:00 Wydział Fizyki organizuje war
 sztaty z radioterapii dla uczniów szkół średnich w ramach projektu Int
 ernational Masterclasses. Uczniowie będą mieli niepowtarzalną okazję
  zapoznania się z radioterapią nowotworu\, wysłuchania  wykładów wp
 rowadzających do tej trudnej tematyki oraz będą miali okazję przygoto
 wać program leczenia dla rzeczywistych pacjentów. Zwieńczeniem dnia bę
 dzie wideokonferencja\, dzięki której uczniowie połączą się z uczni
 ami z innych ośrodków\, którzy również uczestniczą w zajęciach Mast
 erclass.Programu International Masterclasses\, który zarządzany jest pr
 zez Uniwersytet Techniczny w Dreźnie w ramach International Particle Phy
 sics Outreach Group ma na celu przybliżenie uczniom zdobyczy fizyki wysok
 ich energii. Każdego roku około 10 tysięcy uczniów w 40 krajach przyc
 hodzi na 1 dzień do około 200 instytucji naukowych (uniwersytetów lub 
 centrów badawczych)\, aby zbadać tajemnice fizyki cząstek oraz fizyki a
 kceleratorów.\nWykłady oraz laboratoria prowadzone będą w języku pols
 kim\, natomiast wideokonferencja z innymi ośrodkami będzie prowadzona w 
 języku angielskim.\n \nSpotkanie z pozostałymi uczestnikami Masterclass
  z innych krajów w danym dniu: https://indico.cern.ch/event/1605065/\n \
 nStrona główna International Masterclasses: http://www.physicsmastercla
 sses.org/ Strona International Particle Physics Otreach Group (IPPOG): 
 http://ippog.web.cern.ch/\n\nhttps://indico.cern.ch/event/1642705/
LOCATION:1.08 (CZIiTT PW)
URL:https://indico.cern.ch/event/1642705/
END:VEVENT
END:VCALENDAR
