BEGIN:VCALENDAR
VERSION:2.0
PRODID:-//CERN//INDICO//EN
BEGIN:VEVENT
SUMMARY:HL Point 5 - Site Coordination Meeting 16
DTSTART:20260304T140000Z
DTEND:20260304T150000Z
DTSTAMP:20260421T224100Z
UID:indico-event-1642802@indico.cern.ch
DESCRIPTION:Speakers: Joao Batista Lopes (CERN)\n\nhttps://indico.cern.ch/
 event/1642802/
LOCATION:3594/1-001 (CERN)
URL:https://indico.cern.ch/event/1642802/
END:VEVENT
END:VCALENDAR
