BEGIN:VCALENDAR
VERSION:2.0
PRODID:-//CERN//INDICO//EN
BEGIN:VEVENT
SUMMARY:HL Point 5 - Site Coordination Meeting 17
DTSTART:20260311T140000Z
DTEND:20260311T150000Z
DTSTAMP:20260423T014700Z
UID:indico-event-1642803@indico.cern.ch
DESCRIPTION:Speakers: Francesca Paola Nicoletti (CERN)\n\nhttps://indico.c
 ern.ch/event/1642803/
LOCATION:3594/1-001 (CERN)
URL:https://indico.cern.ch/event/1642803/
END:VEVENT
END:VCALENDAR
