BEGIN:VCALENDAR
VERSION:2.0
PRODID:-//CERN//INDICO//EN
BEGIN:VEVENT
SUMMARY:Temporary storage buildings - Follow-up meeting CERN HallGruppen
DTSTART:20260316T123000Z
DTEND:20260320T143000Z
DTSTAMP:20260420T224500Z
UID:indico-event-1645640@indico.cern.ch
DESCRIPTION:https://indico.cern.ch/event/1645640/
URL:https://indico.cern.ch/event/1645640/
END:VEVENT
END:VCALENDAR
