BEGIN:VCALENDAR
VERSION:2.0
PRODID:-//CERN//INDICO//EN
BEGIN:VEVENT
SUMMARY:Temporary storage buildings - Follow-up meeting CERN HallGruppen
DTSTART:20260420T113000Z
DTEND:20260424T133000Z
DTSTAMP:20260421T002400Z
UID:indico-event-1645645@indico.cern.ch
DESCRIPTION:https://indico.cern.ch/event/1645645/
URL:https://indico.cern.ch/event/1645645/
END:VEVENT
END:VCALENDAR
