BEGIN:VCALENDAR
VERSION:2.0
PRODID:-//CERN//INDICO//EN
BEGIN:VEVENT
SUMMARY:PIKIMO 20
DTSTART:20260425T070000Z
DTEND:20260425T221000Z
DTSTAMP:20260422T175100Z
UID:indico-event-1646015@indico.cern.ch
CONTACT:iallali@nd.edu
DESCRIPTION:PIKIMO 20\nThe High Energy Physics group at the University of 
 Notre Dame is excited to host the 20th PIKIMO meeting on Saturday\, April 
 25th\, 2026. The meeting will take place at McKenna Hall\, room B01. Break
 fast will start at 8:15am Eastern Time\, with opening remarks at 8:50am an
 d the first talk at 9:00am.\nPIKIMO is a series of informal phenomenology 
 meetings\, with talks primarily given by graduate students and postdoctora
 l researchers. The scope of the meeting is particle phenomenology broadly 
 defined\, including particle and astroparticle phenomenology\, amplitudes\
 , and cosmology research.\nKeynote Speakers\n\nRachel Houtz (University of
  Florida)\nCarlos Blanco (Penn State)\n\n \nA light breakfast\, lunch\, a
 nd coffee breaks will be provided during the meeting. To participate\, ple
 ase register for the meeting. If you wish to present a talk at the meeting
 \, please submit an abstract by April 6\, 2026 at 11:59pm.\nContact Itamar
  Allali at iallali@nd.edu with any questions.\n \n\n\nhttps://indico.cern
 .ch/event/1646015/
URL:https://indico.cern.ch/event/1646015/
END:VEVENT
END:VCALENDAR
