BEGIN:VCALENDAR
VERSION:2.0
PRODID:-//CERN//INDICO//EN
BEGIN:VEVENT
SUMMARY:ISOLDE Decay Station (IDS) Collaboration Meeting - 2026
DTSTART:20260429T090000Z
DTEND:20260430T140000Z
DTSTAMP:20260422T192800Z
UID:indico-event-1646412@indico.cern.ch
DESCRIPTION:The ISOLDE Decay Station (IDS) collaboration meeting will be o
 rganized at Horia Hulubei National Institute\, Bucharest.\nThe aims of the
  collaboration meeting are:\n\nTo present the current status of results pe
 nding publication and future experiment proposals.\nTo discuss ideas and p
 lans for future upgrades to the device\nTo consider use of the device duri
 ng the LS3 period.\nTo consider physics cases for after LS3\n\nAll members
  of the IDS collaboration are welcome\, as well as external researchers in
 terested in performing experiments at IDS.\nWe note that IDS workshop will
  follow immediately after the FAST'26 workshop. Details for the FAST'26 w
 orkshop can be found at the following link https://indico.cern.ch/event/16
 33228/ \n\nhttps://indico.cern.ch/event/1646412/
IMAGE;VALUE=URI:https://indico.cern.ch/event/1646412/logo-1934786293.png
LOCATION:Horia Hulubei National Institute for R&D in Physics and Nuclear E
 ngineering (IFIN-HH)
URL:https://indico.cern.ch/event/1646412/
END:VEVENT
END:VCALENDAR
