BEGIN:VCALENDAR
VERSION:2.0
PRODID:-//CERN//INDICO//EN
BEGIN:VEVENT
SUMMARY:60th Rencontres de Moriond 2026: QCD & High Energy Interactions
DTSTART:20260322T140000Z
DTEND:20260329T130000Z
DTSTAMP:20260422T210000Z
UID:indico-event-1648766@indico.cern.ch
DESCRIPTION:Speakers: Bolek Pietrzyk (Annecy)\, Jan Fiete Grosse-Oetringha
 us (CERN)\n\nhttps://indico.cern.ch/event/1648766/
URL:https://indico.cern.ch/event/1648766/
END:VEVENT
END:VCALENDAR
