BEGIN:VCALENDAR
VERSION:2.0
PRODID:-//CERN//INDICO//EN
BEGIN:VEVENT
SUMMARY:Restricted Council - Two-Hundred-and-Twenty-Sixth Session
DTSTART:20260326T080000Z
DTEND:20260327T110000Z
DTSTAMP:20260423T114800Z
UID:indico-event-1650085@indico.cern.ch
DESCRIPTION:https://indico.cern.ch/event/1650085/
LOCATION:503/1-001 - Council Chamber (CERN)
URL:https://indico.cern.ch/event/1650085/
END:VEVENT
END:VCALENDAR
