BEGIN:VCALENDAR
VERSION:2.0
PRODID:-//CERN//INDICO//EN
BEGIN:VEVENT
SUMMARY:Meeting
DTSTART:20260305T090000Z
DTEND:20260305T103000Z
DTSTAMP:20260422T001800Z
UID:indico-event-1650210@indico.cern.ch
DESCRIPTION:https://indico.cern.ch/event/1650210/
LOCATION:28/S-029 (CERN)
URL:https://indico.cern.ch/event/1650210/
END:VEVENT
END:VCALENDAR
