BEGIN:VCALENDAR
VERSION:2.0
PRODID:-//CERN//INDICO//EN
BEGIN:VEVENT
SUMMARY:Cool ideas
DTSTART:20260324T150000Z
DTEND:20260324T172000Z
DTSTAMP:20260423T180800Z
UID:indico-event-1650245@indico.cern.ch
DESCRIPTION:*********Today's meeting will start at 16:00 CET due to daylig
 ht savings time changeover in the US.***********\n\nhttps://indico.cern.ch
 /event/1650245/
URL:https://indico.cern.ch/event/1650245/
END:VEVENT
END:VCALENDAR
