BEGIN:VCALENDAR
VERSION:2.0
PRODID:-//CERN//INDICO//EN
BEGIN:VEVENT
SUMMARY:JCOP FWWG 17 Feb 2026
DTSTART:20260217T130000Z
DTEND:20260217T143000Z
DTSTAMP:20260422T003600Z
UID:indico-event-1650674@indico.cern.ch
DESCRIPTION:https://indico.cern.ch/event/1650674/
URL:https://indico.cern.ch/event/1650674/
END:VEVENT
END:VCALENDAR
