BEGIN:VCALENDAR
VERSION:2.0
PRODID:-//CERN//INDICO//EN
BEGIN:VEVENT
SUMMARY:POLAR-2 weekly meeting
DTSTART:20260216T093000Z
DTEND:20260216T111500Z
DTSTAMP:20260421T015500Z
UID:indico-event-1652082@indico.cern.ch
DESCRIPTION:Zoom info:\nhttps://unige.zoom.us/j/63634520102\n \n\nFEE Mec
 hanics update\nFEE FW HV + Peltier \nFEE physics part\nUpdates on WP3 and
  WP4\nFW for LVPS hub\nESRF beam test\nSimulation and analysis\n\n \n \n
  \n \n \n \n \n \n \n\nhttps://indico.cern.ch/event/1652082/
URL:https://indico.cern.ch/event/1652082/
END:VEVENT
END:VCALENDAR
