BEGIN:VCALENDAR
VERSION:2.0
PRODID:-//CERN//INDICO//EN
BEGIN:VEVENT
SUMMARY:Temporary storage buildings - Follow-up meeting CERN HallGruppen
DTSTART:20260427T113000Z
DTEND:20260501T133000Z
DTSTAMP:20260423T195500Z
UID:indico-event-1652164@indico.cern.ch
DESCRIPTION:https://indico.cern.ch/event/1652164/
URL:https://indico.cern.ch/event/1652164/
END:VEVENT
END:VCALENDAR
