BEGIN:VCALENDAR
VERSION:2.0
PRODID:-//CERN//INDICO//EN
BEGIN:VEVENT
SUMMARY:HEPiX Benchmarking Working Group
DTSTART:20260318T160000Z
DTEND:20260318T171500Z
DTSTAMP:20260421T045800Z
UID:indico-event-1652309@indico.cern.ch
DESCRIPTION:Speakers: Domenico Giordano (CERN)\, Michele Michelotto (Unive
 rsita e INFN\, Padova (IT))\n\nActive Sprint: https://its.cern.ch/jira/sec
 ure/RapidBoard.jspa?rapidView=6519\n\nhttps://indico.cern.ch/event/1652309
 /
LOCATION:CERN
URL:https://indico.cern.ch/event/1652309/
END:VEVENT
END:VCALENDAR
