BEGIN:VCALENDAR
VERSION:2.0
PRODID:-//CERN//INDICO//EN
BEGIN:VEVENT
SUMMARY:Joint ABP-CAP and ABP-CEI Section Meeting
DTSTART:20260326T130000Z
DTEND:20260326T143000Z
DTSTAMP:20260421T141800Z
UID:indico-event-1652449@indico.cern.ch
DESCRIPTION:https://indico.cern.ch/event/1652449/
LOCATION:6/2-004 (CERN)
URL:https://indico.cern.ch/event/1652449/
END:VEVENT
END:VCALENDAR
