BEGIN:VCALENDAR
VERSION:2.0
PRODID:-//CERN//INDICO//EN
BEGIN:VEVENT
SUMMARY:Cables around GHM
DTSTART:20260217T143000Z
DTEND:20260217T150000Z
DTSTAMP:20260424T075300Z
UID:indico-event-1652786@indico.cern.ch
DESCRIPTION:https://indico.cern.ch/event/1652786/
URL:https://indico.cern.ch/event/1652786/
END:VEVENT
END:VCALENDAR
