BEGIN:VCALENDAR
VERSION:2.0
PRODID:-//CERN//INDICO//EN
BEGIN:VEVENT
SUMMARY:Point information CERN sur le Débat public FCC
DTSTART:20260423T110000Z
DTEND:20260423T115500Z
DTSTAMP:20260423T114900Z
UID:indico-event-1654356@indico.cern.ch
CONTACT:mattis.nil.kennouche@cern.ch
DESCRIPTION:https://indico.cern.ch/event/1654356/
LOCATION:500/1-001 - Main Auditorium (CERN)
URL:https://indico.cern.ch/event/1654356/
END:VEVENT
END:VCALENDAR
