BEGIN:VCALENDAR
VERSION:2.0
PRODID:-//CERN//INDICO//EN
BEGIN:VEVENT
SUMMARY:FCC-ee optics tuning WG
DTSTART:20260227T090000Z
DTEND:20260227T110000Z
DTSTAMP:20260421T223900Z
UID:indico-event-1654640@indico.cern.ch
DESCRIPTION:https://indico.cern.ch/event/1654640/
LOCATION:6/R-012 - conference room (CERN)
URL:https://indico.cern.ch/event/1654640/
END:VEVENT
END:VCALENDAR
