BEGIN:VCALENDAR
VERSION:2.0
PRODID:-//CERN//INDICO//EN
BEGIN:VEVENT
SUMMARY:Physical Constants Library Discussion
DTSTART:20260227T123000Z
DTEND:20260227T133000Z
DTSTAMP:20260423T232600Z
UID:indico-event-1655375@indico.cern.ch
DESCRIPTION:https://indico.cern.ch/event/1655375/
LOCATION:Zoomlandia
URL:https://indico.cern.ch/event/1655375/
END:VEVENT
END:VCALENDAR
