BEGIN:VCALENDAR
VERSION:2.0
PRODID:-//CERN//INDICO//EN
BEGIN:VEVENT
SUMMARY:Librarian and Integrators Meeting (LIM)
DTSTART:20260309T120000Z
DTEND:20260309T130000Z
DTSTAMP:20260423T050500Z
UID:indico-event-1655490@indico.cern.ch
DESCRIPTION:Speakers: Juan Miguel Carceller (CERN)\, Dmitri Konstantinov (
 University of Virginia (US))\, Andre Sailer (CERN)\n\nhttps://indico.cern.
 ch/event/1655490/
LOCATION:32/1-A24 (CERN)
URL:https://indico.cern.ch/event/1655490/
END:VEVENT
END:VCALENDAR
