BEGIN:VCALENDAR
VERSION:2.0
PRODID:-//CERN//INDICO//EN
BEGIN:VEVENT
SUMMARY:SPRACE - Administration Bi-Weekly meeting
DTSTART:20260406T190000Z
DTEND:20260406T210000Z
DTSTAMP:20260424T131700Z
UID:indico-event-1656490@indico.cern.ch
DESCRIPTION:Speakers: Pedro Galli Mercadante (UNESP - Universidade Estadua
 l  Paulista (BR))\n\nRemote participants can join the meeting using Zoom.\
 nJoin Zoom Meeting:\nhttps://cern.zoom.us/j/66741058886?pwd=d2VHY2NnMlcydW
 VEQ1RaSitRZndrZz09\n\nhttps://indico.cern.ch/event/1656490/
URL:https://indico.cern.ch/event/1656490/
END:VEVENT
END:VCALENDAR
