BEGIN:VCALENDAR
VERSION:2.0
PRODID:-//CERN//INDICO//EN
BEGIN:VEVENT
SUMMARY:General section meeting\, and wax results
DTSTART:20260303T134500Z
DTEND:20260303T150000Z
DTSTAMP:20260424T095000Z
UID:indico-event-1656632@indico.cern.ch
DESCRIPTION:https://indico.cern.ch/event/1656632/
URL:https://indico.cern.ch/event/1656632/
END:VEVENT
END:VCALENDAR
