BEGIN:VCALENDAR
VERSION:2.0
PRODID:-//CERN//INDICO//EN
BEGIN:VEVENT
SUMMARY:SY-BI-BP section meeting
DTSTART:20260420T080000Z
DTEND:20260420T090000Z
DTSTAMP:20260423T143700Z
UID:indico-event-1657099@indico.cern.ch
DESCRIPTION:https://indico.cern.ch/event/1657099/
LOCATION:866/2-D05 (CERN)
URL:https://indico.cern.ch/event/1657099/
END:VEVENT
END:VCALENDAR
