BEGIN:VCALENDAR
VERSION:2.0
PRODID:-//CERN//INDICO//EN
BEGIN:VEVENT
SUMMARY:Introduction course for guides
DTSTART:20260325T100000Z
DTEND:20260325T110000Z
DTSTAMP:20260423T184600Z
UID:indico-event-1657179@indico.cern.ch
CONTACT:visits.service@cern.ch
DESCRIPTION:This Introduction Course covers the basics of the educational 
 and outreach activities and how to become a CERN Guide\, in the sense of:\
 n\nWhy become a CERN Guide?\nWho can become a CERN Guide?\nWhat training i
 s offered to CERN Guides?\nGuides training structure\nWhat activities can 
 CERN Guides take part in?\nWhat resources are available?\nHow to sign up?\
 nWho does what?\n\nTo become a CERN Guide\, you need have an affiliation w
 ith CERN that has a total duration of at least 6 months (doesn't mean that
  you need to wait sic months when starting your contract). Most statuses o
 f affiliation at CERN entitle to become a Guide\, more info here in the Gu
 ides Rules: https://guides.web.cern.ch/documents.\nHere you can already j
 oin the main Mattermost channel for Guides: https://mattermost.web.cern.ch
 /cern-guides/channels/town-square\n \n\nThis course is mandatory for new 
 CERN Guides and those\, who haven't joined it yet (since 2023).\n\nhttps:/
 /indico.cern.ch/event/1657179/
LOCATION:60/6-015 - Room Georges Charpak (Room F) (CERN)
URL:https://indico.cern.ch/event/1657179/
END:VEVENT
END:VCALENDAR
