BEGIN:VCALENDAR
VERSION:2.0
PRODID:-//CERN//INDICO//EN
BEGIN:VEVENT
SUMMARY:Visit Point Training: Neutrino Platform
DTSTART:20260319T140000Z
DTEND:20260319T151500Z
DTSTAMP:20260423T112900Z
UID:indico-event-1657487@indico.cern.ch
CONTACT:visits.service@cern.ch
DESCRIPTION:Please only register if you have a way to get to the visit poi
 nt (in Prevessin) that day!\nBefore joining this training\, you should hav
 e joined the Guides Introduction Course\nThe training takes place in a su
 pervised area\, which means no access for pregnant individuals (and childr
 en below 16). Eating and drinking is prohibited. Additionally\, you need 
 to wear closed shoes without heels and no big bagpacks or other luggage. Y
 ou can find all the information about safety & accessibility here: https:
 //guides.web.cern.ch/node/770. If you have your own helmet\, please bring 
 it with you.\nTo get access to the visit point\, you will need to have a p
 ersonal  dosimeter (https://dosimetry.web.cern.ch/) and you need to follo
 w the these two trainings in LMS ((this is not required to join the traini
 ng):- Neutrino Platform Hall - Cryogenics / Hall de la Plateforme Neutrin
 o - Cryogénie - Neutrino Platform Hall - Access and Safety / Hall de la
  Plateforme Neutrino - Accès et Sécurité\nThe Neutrino Platform is at t
 he end of EHN1\, meaning building 887\, Lausanne side (a bit further after
  the BBQ area). On CERN Map you can look for 887/1-205. If having trouble
  finding the location\, see the map and instructions available at the link
  above\, under 'Access and safety'.We will meet where you see the red cros
 s:\n\nYou will need to be on time to join the training\, otherwise you mis
 s essential (safety) information.\nShould you not be able to join\, please
  cancel your participation in Indico.\nHere you can already join the Matte
 rmost channel for Neutrino Platform Guides: https://mattermost.web.cern.c
 h/cern-guides/channels/np---neutrino-platform\n \n\nIf the training is al
 ready fully booked\, please check the Indico side the three days before (
 and even on the same day)\, because guides who are registered receive a re
 minder three days before and might then withdraw if spontaneously not avai
 lable. Please don't just show up without confirmation.\nFor questions\, yo
 u can send an email to guides.manager@cern.ch\n\nhttps://indico.cern.ch/
 event/1657487/
LOCATION:Building 887 (CERN)
URL:https://indico.cern.ch/event/1657487/
END:VEVENT
END:VCALENDAR
