BEGIN:VCALENDAR
VERSION:2.0
PRODID:-//CERN//INDICO//EN
BEGIN:VEVENT
SUMMARY:10th RED LHC workshop
DTSTART:20260629T120000Z
DTEND:20260701T120000Z
DTSTAMP:20260424T061300Z
UID:indico-event-1657947@indico.cern.ch
DESCRIPTION:This is a workshop devoted to promoting the interaction and di
 scussion between theorists and experimentalists\, covering topics such as 
 Higgs\, top\, flavour\, EFT\, LLP\, and prospects for LHC Run 3 and HL-LHC
 .\nLocation: Aula Magna\, Facultat de Física\, Universitat de Barcelona\n
 Deadline for registration: May 31st 2026\n\nhttps://indico.cern.ch/event/1
 657947/
LOCATION:Aula Magna\, Facultat de Física (Universitat de Barcelona)
URL:https://indico.cern.ch/event/1657947/
END:VEVENT
END:VCALENDAR
