BEGIN:VCALENDAR
VERSION:2.0
PRODID:-//CERN//INDICO//EN
BEGIN:VEVENT
SUMMARY:Arxiv + presentation "Energy Correlators of Spinning Sources"
DTSTART:20260313T100000Z
DTEND:20260313T110000Z
DTSTAMP:20260421T111500Z
UID:indico-event-1659453@indico.cern.ch
DESCRIPTION:Speakers: Marc Riembau (CERN)\n\nhttps://indico.cern.ch/event/
 1659453/
LOCATION:4/2-011 - TH common room (CERN)
URL:https://indico.cern.ch/event/1659453/
END:VEVENT
END:VCALENDAR
