BEGIN:VCALENDAR
VERSION:2.0
PRODID:-//CERN//INDICO//EN
BEGIN:VEVENT
SUMMARY:TIM functionality migrating to WinCCOA
DTSTART:20260304T144500Z
DTEND:20260304T154500Z
DTSTAMP:20260421T210100Z
UID:indico-event-1659463@indico.cern.ch
DESCRIPTION:https://indico.cern.ch/event/1659463/
LOCATION:774/2-058 (CERN)
URL:https://indico.cern.ch/event/1659463/
END:VEVENT
END:VCALENDAR
