BEGIN:VCALENDAR
VERSION:2.0
PRODID:-//CERN//INDICO//EN
BEGIN:VEVENT
SUMMARY:Meeting with Slovenian delegation
DTSTART:20260305T133000Z
DTEND:20260305T143000Z
DTSTAMP:20260421T081300Z
UID:indico-event-1659724@indico.cern.ch
DESCRIPTION:https://indico.cern.ch/event/1659724/
LOCATION:61/1-017 - Room D (CERN)
URL:https://indico.cern.ch/event/1659724/
END:VEVENT
END:VCALENDAR
