BEGIN:VCALENDAR
VERSION:2.0
PRODID:-//CERN//INDICO//EN
BEGIN:VEVENT
SUMMARY:Common Wire Tracker Digitisation
DTSTART:20260305T163000Z
DTEND:20260305T173000Z
DTSTAMP:20260421T174400Z
UID:indico-event-1659886@indico.cern.ch
DESCRIPTION:https://cern.zoom.us/j/66879556692?pwd=tELSo7kxgmLxjSUu5RInGde
 cbwJbZt.1\n\nhttps://indico.cern.ch/event/1659886/
URL:https://indico.cern.ch/event/1659886/
END:VEVENT
END:VCALENDAR
