BEGIN:VCALENDAR
VERSION:2.0
PRODID:-//CERN//INDICO//EN
BEGIN:VEVENT
SUMMARY:POLAB & HV LAB MEETING #97 WEEK 08: Weekly Activities
DTSTART:20260219T130000Z
DTEND:20260219T143000Z
DTSTAMP:20260423T214300Z
UID:indico-event-1660282@indico.cern.ch
DESCRIPTION:https://indico.cern.ch/event/1660282/
URL:https://indico.cern.ch/event/1660282/
END:VEVENT
END:VCALENDAR
