BEGIN:VCALENDAR
VERSION:2.0
PRODID:-//CERN//INDICO//EN
BEGIN:VEVENT
SUMMARY:POLAB & HV LAB MEETING #99 WEEK 10: Weekly Activities
DTSTART:20260305T130000Z
DTEND:20260305T143000Z
DTSTAMP:20260423T014400Z
UID:indico-event-1660290@indico.cern.ch
DESCRIPTION:https://indico.cern.ch/event/1660290/
URL:https://indico.cern.ch/event/1660290/
END:VEVENT
END:VCALENDAR
